BEGIN:VCALENDAR
VERSION:2.0
PRODID:-//White City Innovation District - ECPv6.15.20//NONSGML v1.0//EN
CALSCALE:GREGORIAN
METHOD:PUBLISH
X-WR-CALNAME:White City Innovation District
X-ORIGINAL-URL:https://www.whitecityinnovationdistrict.org.uk
X-WR-CALDESC:Events for White City Innovation District
REFRESH-INTERVAL;VALUE=DURATION:PT1H
X-Robots-Tag:noindex
X-PUBLISHED-TTL:PT1H
BEGIN:VTIMEZONE
TZID:Europe/London
BEGIN:DAYLIGHT
TZOFFSETFROM:+0000
TZOFFSETTO:+0100
TZNAME:BST
DTSTART:20250330T010000
END:DAYLIGHT
BEGIN:STANDARD
TZOFFSETFROM:+0100
TZOFFSETTO:+0000
TZNAME:GMT
DTSTART:20251026T010000
END:STANDARD
BEGIN:DAYLIGHT
TZOFFSETFROM:+0000
TZOFFSETTO:+0100
TZNAME:BST
DTSTART:20260329T010000
END:DAYLIGHT
BEGIN:STANDARD
TZOFFSETFROM:+0100
TZOFFSETTO:+0000
TZNAME:GMT
DTSTART:20261025T010000
END:STANDARD
BEGIN:DAYLIGHT
TZOFFSETFROM:+0000
TZOFFSETTO:+0100
TZNAME:BST
DTSTART:20270328T010000
END:DAYLIGHT
BEGIN:STANDARD
TZOFFSETFROM:+0100
TZOFFSETTO:+0000
TZNAME:GMT
DTSTART:20271031T010000
END:STANDARD
END:VTIMEZONE
BEGIN:VEVENT
DTSTART;TZID=Europe/London:20260416T123000
DTEND;TZID=Europe/London:20260416T133000
DTSTAMP:20260423T064442
CREATED:20260411T105052Z
LAST-MODIFIED:20260411T105052Z
UID:4154-1776342600-1776346200@www.whitecityinnovationdistrict.org.uk
SUMMARY:White City Walkabout
DESCRIPTION:Join Nexus and step into the story of White City with the brilliant Joanna from Iya London Walks\, as she leads a one-hour exploration of White City Innovation District. \n\n\nIn just one hour\, Joanna will guide you through the fascinating history and future of White City Innovation District – from a dazzling exhibition space and venue created by a Hungarian showman for the 1908 Olympics to its modern transformation into a thriving centre of science\, creativity and enterprise. \nHighlights include: \n\nThe origins of the ‘Great White City’\nThe UK’s first public Japanese garden\nThe iconic Television Centre\nInsights into Imperial’s White City campus\n\nThis is a great opportunity to take a break\, meet colleagues from across the district\, and discover something new about the place we work. \nGet in your steps over lunchtime! Starting outside The Black Farmer White City\, ending at Imperial White City Campus – North (Perkin’s Green).
URL:https://www.whitecityinnovationdistrict.org.uk/event/white-city-walkabout/
LOCATION:The Black Farmer\, Unit 1\, 2 Television Centre\, 101 Wood Lane\, London\, W12 7FR\, United Kingdom
ATTACH;FMTTYPE=image/png:https://www.whitecityinnovationdistrict.org.uk/wp-content/uploads/sites/10/2025/06/JasonHawkes-474352_walking-tour_small.png
ORGANIZER;CN="Nexus":MAILTO:hello@move-upstream.org.uk
END:VEVENT
END:VCALENDAR