BEGIN:VCALENDAR
VERSION:2.0
PRODID:-//White City Innovation District - ECPv6.15.20//NONSGML v1.0//EN
CALSCALE:GREGORIAN
METHOD:PUBLISH
X-WR-CALNAME:White City Innovation District
X-ORIGINAL-URL:https://www.whitecityinnovationdistrict.org.uk
X-WR-CALDESC:Events for White City Innovation District
REFRESH-INTERVAL;VALUE=DURATION:PT1H
X-Robots-Tag:noindex
X-PUBLISHED-TTL:PT1H
BEGIN:VTIMEZONE
TZID:Europe/London
BEGIN:DAYLIGHT
TZOFFSETFROM:+0000
TZOFFSETTO:+0100
TZNAME:BST
DTSTART:20240331T010000
END:DAYLIGHT
BEGIN:STANDARD
TZOFFSETFROM:+0100
TZOFFSETTO:+0000
TZNAME:GMT
DTSTART:20241027T010000
END:STANDARD
BEGIN:DAYLIGHT
TZOFFSETFROM:+0000
TZOFFSETTO:+0100
TZNAME:BST
DTSTART:20250330T010000
END:DAYLIGHT
BEGIN:STANDARD
TZOFFSETFROM:+0100
TZOFFSETTO:+0000
TZNAME:GMT
DTSTART:20251026T010000
END:STANDARD
BEGIN:DAYLIGHT
TZOFFSETFROM:+0000
TZOFFSETTO:+0100
TZNAME:BST
DTSTART:20260329T010000
END:DAYLIGHT
BEGIN:STANDARD
TZOFFSETFROM:+0100
TZOFFSETTO:+0000
TZNAME:GMT
DTSTART:20261025T010000
END:STANDARD
END:VTIMEZONE
BEGIN:VEVENT
DTSTART;TZID=Europe/London:20250508T130000
DTEND;TZID=Europe/London:20250508T180000
DTSTAMP:20260421T144526
CREATED:20250407T113410Z
LAST-MODIFIED:20250407T113618Z
UID:3482-1746709200-1746727200@www.whitecityinnovationdistrict.org.uk
SUMMARY:Undaunted: The Greenhouse Demo Day
DESCRIPTION:Join White City Innovation District’s Undaunted to celebrate its flagship event\, Demo Day! \nImperial’s climate innovation community will come together to celebrate the seventh cohort of cleantech\, fintech\, deeptech startups coming to the end of their time on Undaunted’s unique accelerator programme\, The Greenhouse. The founders will pour what they’ve learnt over the past 12 months into impressive pitches to investors on the historic stage at The Royal Institution. \nIf you’re an investor or supporter of climate innovation\, it’s a fantastic opportunity to hear from passionate early-stage founders who are on a mission to make the future more sustainable and equitable\, and to learn about exciting ideas and technologies at the forefront of tackling climate change. \nUndaunted will be announcing the theme and schedule for the day soon\, as well as expert speakers who’ll provide insights into the latest trends in climate innovation and investment. The schedule will also provide plenty of time to network and chat over drinks and nibbles. \nAbout The Greenhouse\nThe Greenhouse is one of the most established specialist climate innovation accelerators in the world; its alumni have raised more than $1.3 billion in investment since 2012 and created over 1\,600 jobs in 30 countries. \nThe programme is supported by the Greater London Authority via the Mayor of London\, HSBC UK\, and the Inflexion Foundation. \nCO2RE\, the UK’s national research hub on Greenhouse Gas Removal (GGR)\, and the UK Centre for Greening Finance and Investment (CGFI) are each sponsoring companies on Cohort 7 of The Greenhouse.
URL:https://www.whitecityinnovationdistrict.org.uk/event/undaunted-the-greenhouse-demo-day/
LOCATION:The Royal Institution\, 21 Albemarle St\, London\, W1S 4BS
ATTACH;FMTTYPE=image/jpeg:https://www.whitecityinnovationdistrict.org.uk/wp-content/uploads/sites/10/2025/02/Undaunted-Demo-Day-19.09.24_Dan-Weill-Photography-23-1-scaled.jpg
ORGANIZER;CN="Undaunted":MAILTO:undaunted@imperial.ac.uk
END:VEVENT
END:VCALENDAR