BEGIN:VCALENDAR
VERSION:2.0
PRODID:-//White City Innovation District - ECPv6.15.20//NONSGML v1.0//EN
CALSCALE:GREGORIAN
METHOD:PUBLISH
X-WR-CALNAME:White City Innovation District
X-ORIGINAL-URL:https://www.whitecityinnovationdistrict.org.uk
X-WR-CALDESC:Events for White City Innovation District
REFRESH-INTERVAL;VALUE=DURATION:PT1H
X-Robots-Tag:noindex
X-PUBLISHED-TTL:PT1H
BEGIN:VTIMEZONE
TZID:Europe/London
BEGIN:DAYLIGHT
TZOFFSETFROM:+0000
TZOFFSETTO:+0100
TZNAME:BST
DTSTART:20240331T010000
END:DAYLIGHT
BEGIN:STANDARD
TZOFFSETFROM:+0100
TZOFFSETTO:+0000
TZNAME:GMT
DTSTART:20241027T010000
END:STANDARD
BEGIN:DAYLIGHT
TZOFFSETFROM:+0000
TZOFFSETTO:+0100
TZNAME:BST
DTSTART:20250330T010000
END:DAYLIGHT
BEGIN:STANDARD
TZOFFSETFROM:+0100
TZOFFSETTO:+0000
TZNAME:GMT
DTSTART:20251026T010000
END:STANDARD
BEGIN:DAYLIGHT
TZOFFSETFROM:+0000
TZOFFSETTO:+0100
TZNAME:BST
DTSTART:20260329T010000
END:DAYLIGHT
BEGIN:STANDARD
TZOFFSETFROM:+0100
TZOFFSETTO:+0000
TZNAME:GMT
DTSTART:20261025T010000
END:STANDARD
END:VTIMEZONE
BEGIN:VEVENT
DTSTART;TZID=Europe/London:20250722T123000
DTEND;TZID=Europe/London:20250722T133000
DTSTAMP:20260422T093058
CREATED:20250714T150026Z
LAST-MODIFIED:20250714T150026Z
UID:3672-1753187400-1753191000@www.whitecityinnovationdistrict.org.uk
SUMMARY:The White City Walkabout
DESCRIPTION:Join Nexus and Joanna from Iya London Walks for a one-hour guided walk through the White City Innovation District\, uncovering its rich history and vibrant present. \nThe White City Walkabout – Exploring the White City Innovation District starts at Scale Space White City. Sign up today!
URL:https://www.whitecityinnovationdistrict.org.uk/event/the-white-city-walkabout/
LOCATION:Scale Space\, White City Innovation District\, 58 Wood Lane\, London\, W12 7RZ\, United Kingdom
ATTACH;FMTTYPE=image/png:https://www.whitecityinnovationdistrict.org.uk/wp-content/uploads/sites/10/2025/06/JasonHawkes-474352_walking-tour_small.png
ORGANIZER;CN="Nexus":MAILTO:hello@move-upstream.org.uk
END:VEVENT
END:VCALENDAR