BEGIN:VCALENDAR
VERSION:2.0
PRODID:-//White City Innovation District - ECPv6.15.20//NONSGML v1.0//EN
CALSCALE:GREGORIAN
METHOD:PUBLISH
X-WR-CALNAME:White City Innovation District
X-ORIGINAL-URL:https://www.whitecityinnovationdistrict.org.uk
X-WR-CALDESC:Events for White City Innovation District
REFRESH-INTERVAL;VALUE=DURATION:PT1H
X-Robots-Tag:noindex
X-PUBLISHED-TTL:PT1H
BEGIN:VTIMEZONE
TZID:Europe/London
BEGIN:DAYLIGHT
TZOFFSETFROM:+0000
TZOFFSETTO:+0100
TZNAME:BST
DTSTART:20240331T010000
END:DAYLIGHT
BEGIN:STANDARD
TZOFFSETFROM:+0100
TZOFFSETTO:+0000
TZNAME:GMT
DTSTART:20241027T010000
END:STANDARD
BEGIN:DAYLIGHT
TZOFFSETFROM:+0000
TZOFFSETTO:+0100
TZNAME:BST
DTSTART:20250330T010000
END:DAYLIGHT
BEGIN:STANDARD
TZOFFSETFROM:+0100
TZOFFSETTO:+0000
TZNAME:GMT
DTSTART:20251026T010000
END:STANDARD
BEGIN:DAYLIGHT
TZOFFSETFROM:+0000
TZOFFSETTO:+0100
TZNAME:BST
DTSTART:20260329T010000
END:DAYLIGHT
BEGIN:STANDARD
TZOFFSETFROM:+0100
TZOFFSETTO:+0000
TZNAME:GMT
DTSTART:20261025T010000
END:STANDARD
END:VTIMEZONE
BEGIN:VEVENT
DTSTART;TZID=Europe/London:20250626T173000
DTEND;TZID=Europe/London:20250626T183000
DTSTAMP:20260422T022217
CREATED:20250625T112246Z
LAST-MODIFIED:20250625T112246Z
UID:3635-1750959000-1750962600@www.whitecityinnovationdistrict.org.uk
SUMMARY:The White City Walkabout - Exploring the White City Innovation District
DESCRIPTION:Join Nexus and step into the story of White City with the brilliant Joanna from Iya London Walks\, as she leads a one-hour exploration of the White City Innovation District. \nIn just one hour\, Joanna will guide you through the fascinating history and future of the White City Innovation District — from a dazzling exhibition space and venue created by a Hungarian showman for the 1908 Olympics to its modern transformation into a thriving centre of science\, creativity and enterprise. \nHighlights include: \n\nThe origins of the ‘Great White City’\nThe UK’s first public Japanese garden\nThe iconic Television Centre\nInsights into Imperial’s White City campus\n\nThis is a great opportunity to take a break\, meet colleagues from across the district\, and discover something new about the place you work. \nGet in your steps before you head home OR to ‘AleSpace’ – Scale Space White City’s Thursday drinks! \nStarting and ending at Scale Space\, White City.
URL:https://www.whitecityinnovationdistrict.org.uk/event/the-white-city-walkabout-exploring-the-white-city-innovation-district/
LOCATION:Scale Space\, White City Innovation District\, 58 Wood Lane\, London\, W12 7RZ\, United Kingdom
ATTACH;FMTTYPE=image/png:https://www.whitecityinnovationdistrict.org.uk/wp-content/uploads/sites/10/2025/06/JasonHawkes-474352_walking-tour_small.png
END:VEVENT
END:VCALENDAR