BEGIN:VCALENDAR
VERSION:2.0
PRODID:-//White City Innovation District - ECPv6.15.20//NONSGML v1.0//EN
CALSCALE:GREGORIAN
METHOD:PUBLISH
X-WR-CALNAME:White City Innovation District
X-ORIGINAL-URL:https://www.whitecityinnovationdistrict.org.uk
X-WR-CALDESC:Events for White City Innovation District
REFRESH-INTERVAL;VALUE=DURATION:PT1H
X-Robots-Tag:noindex
X-PUBLISHED-TTL:PT1H
BEGIN:VTIMEZONE
TZID:Europe/London
BEGIN:DAYLIGHT
TZOFFSETFROM:+0000
TZOFFSETTO:+0100
TZNAME:BST
DTSTART:20240331T010000
END:DAYLIGHT
BEGIN:STANDARD
TZOFFSETFROM:+0100
TZOFFSETTO:+0000
TZNAME:GMT
DTSTART:20241027T010000
END:STANDARD
BEGIN:DAYLIGHT
TZOFFSETFROM:+0000
TZOFFSETTO:+0100
TZNAME:BST
DTSTART:20250330T010000
END:DAYLIGHT
BEGIN:STANDARD
TZOFFSETFROM:+0100
TZOFFSETTO:+0000
TZNAME:GMT
DTSTART:20251026T010000
END:STANDARD
BEGIN:DAYLIGHT
TZOFFSETFROM:+0000
TZOFFSETTO:+0100
TZNAME:BST
DTSTART:20260329T010000
END:DAYLIGHT
BEGIN:STANDARD
TZOFFSETFROM:+0100
TZOFFSETTO:+0000
TZNAME:GMT
DTSTART:20261025T010000
END:STANDARD
END:VTIMEZONE
BEGIN:VEVENT
DTSTART;TZID=Europe/London:20250703T080000
DTEND;TZID=Europe/London:20250910T170000
DTSTAMP:20260422T042617
CREATED:20250703T120345Z
LAST-MODIFIED:20250703T121455Z
UID:3654-1751529600-1757523600@www.whitecityinnovationdistrict.org.uk
SUMMARY:Television Centre Live 2025
DESCRIPTION:Television Centre Live: Sounds like Summer returns for the third year running with a series of FREE events until September\, co-hosted by local cultural partners. \nDon’t miss the opportunity to enjoy this iconic site and creative community\, including workshops\, live music\, artist markets\, artists showcases and film screenings. \nCheck out what’s on below: \nWorkshops: \nWest London creative Hanna Whiteman will be hosting a Botanical Painting Workshop on 2TVC terraces\, from 12:30-13:30. Participants will have the opportunity to use richly textured Indian rag paper and gouache paints to create their own botanical-inspired artwork. \nOur series of crafty workshops continues throughout the summer\, with Kite Studios hosting a Relief Printing Workshop on 3rd  September. The session will take place on the 2TVC Terraces from 12:30-13:30\, offering the chance to explore new techniques. \nFor something a little different\, don’t miss the Intro to Perfumery Workshop with up-and-coming perfumers Deya on 24 July. From 12:30 to 13:30\, you’ll discover the art of crafting scents—from natural extraction to the balance between synthetic and botanical ingredients—and finish the session with your own personal creations on scent blotters. \nLive Music: \nWest London has always been a hub for musical talent. In 2025\, local music legends Next Door Records (NDR) will return\, hosting a FREE live DJ session on the Forecourt on Thursday 4th September\, from 16:30\, in partnership with Voices Radio. \nJoin from 16:30 on Thursday 3rd July to catch live Next Door Sessions performances from London’s rising musicians\, Charles and Bert\, as the Forecourt is transformed into Next Door Records’ record shop and broadcast live. Enjoy these groovy sounds whilst sipping on NDR’s signature cocktails or a refreshing drinks from Television Centre’s mobile bar\, serviced by The Broadcaster. \nFor something a little funkier\, 20th August from 12:30-14:00 offers a live performance by local collective Malombo Music Association\, bringing infectious rhythms and energy to the Forecourt. \nFilm Screenings: \nOn 17th July (17:30-20:30)\, pull up a beanbag or deck chair and watch a FREE original film screening created by local artist incubators and White City Place resident\, HQI. Hosted on the Big Screen\, the event will feature a collection of short works by emerging filmmakers\, followed by a feature-length screening of Stop Making Sense. \nCatch curated films on the Forecourt in partnership with the film platform Deeper into Movies\, such as the cult-classic Empire\, by Andy Warhol with a live performance of Philip Glass by Fiachra Garvey on Thursday 31st July (17:30-20:00). Or check out the avant-garde documentary wonder\, News from Home\, by Chantal Akerman\, on Thursday 21st August. \nDelicious food and drinks will be provided by the Broadcaster from Television Centre’s pop-up bar across all film screening dates. \nArts Market: \nDon’t miss the standout FREE event of the summer – Television Centre Live’s Arts Market on 30th August. An opportunity to see the best of London’s creative expression\, this market is a celebration of London’s creative talent\, featuring over 30 artists displaying and selling their unique handmade goods\, including paintings\, sculptures\, jewellery\, and textiles. \nThroughout the day there will be live music hosted by local icons\, Next Door Records\, and delicious food and drink provided by The Broadcaster from the pop-up bar. \nArt Showcases: \nThis summer\, Television Centre is proud to partner with the Royal College of Art for two FREE Artist Showcase events on the Forecourt. On 23rd July and 10th September\, from 17:30 – 20:00\, there will be a screening of a curated selection of the best animated works from students of the RCA School of Communication on the Big Screen. You can also catch sneak previews of their work during advert breaks on the Big Screen throughout the season. \nCalendar of Events: \nThursday 3rd July\, 16:30 – 20:00 – Next Door Sessions: Live at TVC (The Forecourt) \nThursday 17th July\, 17:30 – 20:30 – Original Film Screening with HQI (The Forecourt) \nWednesday 23rd July\, 17:30 – 20:00 – Royal College of Art Showcase (The Forecourt) \nThursday 24th July\, 12:30 – 13:30 – Intro to Perfumery with Deya (2TVC Terraces) \nThursday 31st July\, 17:30 – 20:00 – Deeper into Movies presents… Philip Glass with Fiachra Garvey (The Forecourt) \nWednesday 20th August\, 12:30 – 14:00 – Funk with Malombo Music Association (The Forecourt) \nThursday 21st August\, 17:30 – 20:00 – Deeper into Movies presents… News From Home (The Forecourt) \nSaturday 30th August\, 12:00 – 18:00 – Arts Market (The Forecourt) \nWednesday 3rd September\, 12:30 – 13:30 – Relief Printing Workshop with Kite Studios (2TVC Terraces) \nThursday 4th September\, 16:30 – 20:00 – Next Door Records Presents (The Forecourt) \nWednesday 10th September\, 17:00 – 20:00 – Royal College of Art Showcase (The Forecourt)
URL:https://www.whitecityinnovationdistrict.org.uk/event/television-centre-live-2025/
LOCATION:Television Centre\, 101 Wood Lane\, London\, W12 7FW\, United Kingdom
ATTACH;FMTTYPE=image/jpeg:https://www.whitecityinnovationdistrict.org.uk/wp-content/uploads/sites/10/2025/07/Television-Centre-image.jpeg
END:VEVENT
END:VCALENDAR