BEGIN:VCALENDAR
VERSION:2.0
PRODID:-//White City Innovation District - ECPv6.15.20//NONSGML v1.0//EN
CALSCALE:GREGORIAN
METHOD:PUBLISH
X-WR-CALNAME:White City Innovation District
X-ORIGINAL-URL:https://www.whitecityinnovationdistrict.org.uk
X-WR-CALDESC:Events for White City Innovation District
REFRESH-INTERVAL;VALUE=DURATION:PT1H
X-Robots-Tag:noindex
X-PUBLISHED-TTL:PT1H
BEGIN:VTIMEZONE
TZID:Europe/London
BEGIN:DAYLIGHT
TZOFFSETFROM:+0000
TZOFFSETTO:+0100
TZNAME:BST
DTSTART:20240331T010000
END:DAYLIGHT
BEGIN:STANDARD
TZOFFSETFROM:+0100
TZOFFSETTO:+0000
TZNAME:GMT
DTSTART:20241027T010000
END:STANDARD
BEGIN:DAYLIGHT
TZOFFSETFROM:+0000
TZOFFSETTO:+0100
TZNAME:BST
DTSTART:20250330T010000
END:DAYLIGHT
BEGIN:STANDARD
TZOFFSETFROM:+0100
TZOFFSETTO:+0000
TZNAME:GMT
DTSTART:20251026T010000
END:STANDARD
BEGIN:DAYLIGHT
TZOFFSETFROM:+0000
TZOFFSETTO:+0100
TZNAME:BST
DTSTART:20260329T010000
END:DAYLIGHT
BEGIN:STANDARD
TZOFFSETFROM:+0100
TZOFFSETTO:+0000
TZNAME:GMT
DTSTART:20261025T010000
END:STANDARD
END:VTIMEZONE
BEGIN:VEVENT
DTSTART;TZID=Europe/London:20250716T163000
DTEND;TZID=Europe/London:20250716T203000
DTSTAMP:20260422T061157
CREATED:20250625T104152Z
LAST-MODIFIED:20250625T104227Z
UID:3614-1752683400-1752697800@www.whitecityinnovationdistrict.org.uk
SUMMARY:Meet AI & Quantum Investors: For startups & scaleups
DESCRIPTION:The DeepTech Network’s Investor Series is back – with a special focus on AI and Quantum! \nJoin Imperial College London and Nexus for an evening of insight\, innovation and investment\, designed exclusively for deep tech startups and scaleups. This instalment of the DeepTech Network’s Investor Series brings together a hands-on IP workshop and an AI & Quantum-focused investor panel\, all under one roof. \n16:30–17:30 – Protecting your DeepTech IP: A practical workshop for startups \nBefore you meet investors\, you should get your IP in order. \nThis interactive workshop\, led by Dr Parminder Lally (Imperial graduate and patent attorney)\, is tailored for ALL early-stage deeptech founders (sector agnostic) \nKnowing how best to protect innovations in newly-emerging and fast-developing fields can be difficult\, particularly as the law lags behind technological advances. In this workshop\, Parminder will cover the IP essentials every fundable startup should know\, from whether AI-based innovations can be patented\, to commercialising training data\, to knowing when the right time is to protect quantum-based research. \nBring your questions – there’s time set aside for practical discussion. \n  \n17:30-20:30– AI & Quantum Investor Panel + Networking \nStick around as we turn our focus to investment. Hear directly from experienced deeptech investors and sector leaders who are actively backing AI and Quantum startups. \nYou’ll gain insight into what funders are looking for in today’s climate and how to position your startup for success. \n  \nConfirmed Speakers: \nAmelia Armour\, Partner\, Amadeus Capital \nProf Deeph Chana\, Imperial Business School & ex-MD\, NATO DIANA \nKurtis Gann\, Head of UK\, Serendipity Capital \nRebeca Santamaria-Fernandez\, Director\, Business & Corporate Development\, Google DeepMind \nJohn Anderson\, CIO\, Imperial College London \nPlus more to be announced! \n——————————- \nWhy Attend? \n\nLearn how to protect your IP before you pitch\nConnect with top-tier investors and AI/Quantum experts\nNetwork with peers\, researchers\, and innovation leaders\nGain fresh perspectives from industry and academia\n\n  \nWho should attend? \n\nThe workshop is open to ALL deep tech startups/scaleups.\nThe panel & reception is open exclusively to deeptech startups and scaleups in the AI and Quantum. Please note: consultancies are not eligible to attend.\n\nHow to apply: \n\nStartup/Scaleup: Apply for a ticket. Admission is by approval only.\nImperial student/staff: Use your Imperial email when applying.\nInvestor? RSVP by emailing hello@move-upstream.org.uk\n\nThis event is kindly supported by Appleyard Lees & Advanced Research Clusters (ARC)
URL:https://www.whitecityinnovationdistrict.org.uk/event/meet-ai-quantum-investors-for-startups-scaleups/
LOCATION:ARC West London\, Manbre Wharf\, Manbre Road\, London\, W6 9RH\, United Kingdom
ATTACH;FMTTYPE=image/avif:https://www.whitecityinnovationdistrict.org.uk/wp-content/uploads/sites/10/2025/06/DTN-image-Jul25.avif
ORGANIZER;CN="Nexus":MAILTO:hello@move-upstream.org.uk
END:VEVENT
END:VCALENDAR