BEGIN:VCALENDAR
VERSION:2.0
PRODID:-//White City Innovation District - ECPv6.15.20//NONSGML v1.0//EN
CALSCALE:GREGORIAN
METHOD:PUBLISH
X-WR-CALNAME:White City Innovation District
X-ORIGINAL-URL:https://www.whitecityinnovationdistrict.org.uk
X-WR-CALDESC:Events for White City Innovation District
REFRESH-INTERVAL;VALUE=DURATION:PT1H
X-Robots-Tag:noindex
X-PUBLISHED-TTL:PT1H
BEGIN:VTIMEZONE
TZID:Europe/London
BEGIN:DAYLIGHT
TZOFFSETFROM:+0000
TZOFFSETTO:+0100
TZNAME:BST
DTSTART:20240331T010000
END:DAYLIGHT
BEGIN:STANDARD
TZOFFSETFROM:+0100
TZOFFSETTO:+0000
TZNAME:GMT
DTSTART:20241027T010000
END:STANDARD
BEGIN:DAYLIGHT
TZOFFSETFROM:+0000
TZOFFSETTO:+0100
TZNAME:BST
DTSTART:20250330T010000
END:DAYLIGHT
BEGIN:STANDARD
TZOFFSETFROM:+0100
TZOFFSETTO:+0000
TZNAME:GMT
DTSTART:20251026T010000
END:STANDARD
BEGIN:DAYLIGHT
TZOFFSETFROM:+0000
TZOFFSETTO:+0100
TZNAME:BST
DTSTART:20260329T010000
END:DAYLIGHT
BEGIN:STANDARD
TZOFFSETFROM:+0100
TZOFFSETTO:+0000
TZNAME:GMT
DTSTART:20261025T010000
END:STANDARD
END:VTIMEZONE
BEGIN:VEVENT
DTSTART;TZID=Europe/London:20251119T170000
DTEND;TZID=Europe/London:20251119T200000
DTSTAMP:20260422T172603
CREATED:20251107T140833Z
LAST-MODIFIED:20251107T140943Z
UID:3810-1763571600-1763582400@www.whitecityinnovationdistrict.org.uk
SUMMARY:LLSW: Unlocking the future of life science partnerships in London
DESCRIPTION:Join West London’s life sciences community at a champagne reception for London Life Sciences Week. Network\, connect & celebrate innovation. \nDo you work in the Life Sciences sector in West London? \nConnect with fellow life sciences professionals and entrepreneurs at this special champagne reception this London Life Sciences Week. \n\n\n\n\nOrganised by Nexus (H&F x Imperial College London) in partnership with Paddington Life Sciences and MRC Laboratory of Medical Sciences and supported by Scale Space White City and ARC West London\, the evening brings together the vibrant west London life sciences ecosystem for networking and community building. \nWhy attend? \nThe life sciences sector remains essential to the UK’s economic future and healthcare advancement. \nThis is an opportunity to: \n\nNetwork with local life sciences employees and entrepreneurs\nConnect with peers navigating similar opportunities and challenges\nBuild relationships across the west London biotech community\nSupport the innovation happening in our neighborhood\nCelebrate the exclusive launch of the MRC’s latest major investment in a series of industry collaborations to accelerate innovation across the London life science landscape\nVisit the labs & offices of our lovely host Scale Space White City – sign up for a tour that runs at 17:30 (i.e. 5:30pm)\n\nWhether you’re working at an established company\, building a startup\, or supporting the sector\, this is your chance to meet the people driving life sciences forward in West London.
URL:https://www.whitecityinnovationdistrict.org.uk/event/llsw-unlocking-the-future-of-life-science-partnerships-in-london/
ATTACH;FMTTYPE=image/jpeg:https://www.whitecityinnovationdistrict.org.uk/wp-content/uploads/sites/10/2025/11/LLSW-image.jpeg
ORGANIZER;CN="Scale Space":MAILTO:hello@scalespace.co.uk
END:VEVENT
END:VCALENDAR