BEGIN:VCALENDAR
VERSION:2.0
PRODID:-//White City Innovation District - ECPv6.15.20//NONSGML v1.0//EN
CALSCALE:GREGORIAN
METHOD:PUBLISH
X-WR-CALNAME:White City Innovation District
X-ORIGINAL-URL:https://www.whitecityinnovationdistrict.org.uk
X-WR-CALDESC:Events for White City Innovation District
REFRESH-INTERVAL;VALUE=DURATION:PT1H
X-Robots-Tag:noindex
X-PUBLISHED-TTL:PT1H
BEGIN:VTIMEZONE
TZID:Europe/London
BEGIN:DAYLIGHT
TZOFFSETFROM:+0000
TZOFFSETTO:+0100
TZNAME:BST
DTSTART:20240331T010000
END:DAYLIGHT
BEGIN:STANDARD
TZOFFSETFROM:+0100
TZOFFSETTO:+0000
TZNAME:GMT
DTSTART:20241027T010000
END:STANDARD
BEGIN:DAYLIGHT
TZOFFSETFROM:+0000
TZOFFSETTO:+0100
TZNAME:BST
DTSTART:20250330T010000
END:DAYLIGHT
BEGIN:STANDARD
TZOFFSETFROM:+0100
TZOFFSETTO:+0000
TZNAME:GMT
DTSTART:20251026T010000
END:STANDARD
BEGIN:DAYLIGHT
TZOFFSETFROM:+0000
TZOFFSETTO:+0100
TZNAME:BST
DTSTART:20260329T010000
END:DAYLIGHT
BEGIN:STANDARD
TZOFFSETFROM:+0100
TZOFFSETTO:+0000
TZNAME:GMT
DTSTART:20261025T010000
END:STANDARD
END:VTIMEZONE
BEGIN:VEVENT
DTSTART;TZID=Europe/London:20250212T110000
DTEND;TZID=Europe/London:20250212T140000
DTSTAMP:20260421T144254
CREATED:20250212T145419Z
LAST-MODIFIED:20250212T145419Z
UID:3376-1739358000-1739368800@www.whitecityinnovationdistrict.org.uk
SUMMARY:Imperial Ecosystem Fair
DESCRIPTION:This event – the biggest Imperial Ecosystem Fair yet – is open to all businesses looking to leverage Imperial College London’s world-class innovation ecosystem to accelerate business growth.
URL:https://www.whitecityinnovationdistrict.org.uk/event/imperial-ecosystem-fair-2/
LOCATION:Scale Space\, White City Innovation District\, 58 Wood Lane\, London\, W12 7RZ\, United Kingdom
ATTACH;FMTTYPE=image/jpeg:https://www.whitecityinnovationdistrict.org.uk/wp-content/uploads/sites/10/2025/02/1706865317316.jpeg
END:VEVENT
END:VCALENDAR