BEGIN:VCALENDAR
VERSION:2.0
PRODID:-//White City Innovation District - ECPv6.15.20//NONSGML v1.0//EN
CALSCALE:GREGORIAN
METHOD:PUBLISH
X-WR-CALNAME:White City Innovation District
X-ORIGINAL-URL:https://www.whitecityinnovationdistrict.org.uk
X-WR-CALDESC:Events for White City Innovation District
REFRESH-INTERVAL;VALUE=DURATION:PT1H
X-Robots-Tag:noindex
X-PUBLISHED-TTL:PT1H
BEGIN:VTIMEZONE
TZID:Europe/London
BEGIN:DAYLIGHT
TZOFFSETFROM:+0000
TZOFFSETTO:+0100
TZNAME:BST
DTSTART:20240331T010000
END:DAYLIGHT
BEGIN:STANDARD
TZOFFSETFROM:+0100
TZOFFSETTO:+0000
TZNAME:GMT
DTSTART:20241027T010000
END:STANDARD
BEGIN:DAYLIGHT
TZOFFSETFROM:+0000
TZOFFSETTO:+0100
TZNAME:BST
DTSTART:20250330T010000
END:DAYLIGHT
BEGIN:STANDARD
TZOFFSETFROM:+0100
TZOFFSETTO:+0000
TZNAME:GMT
DTSTART:20251026T010000
END:STANDARD
BEGIN:DAYLIGHT
TZOFFSETFROM:+0000
TZOFFSETTO:+0100
TZNAME:BST
DTSTART:20260329T010000
END:DAYLIGHT
BEGIN:STANDARD
TZOFFSETFROM:+0100
TZOFFSETTO:+0000
TZNAME:GMT
DTSTART:20261025T010000
END:STANDARD
END:VTIMEZONE
BEGIN:VEVENT
DTSTART;TZID=Europe/London:20250320T130000
DTEND;TZID=Europe/London:20250320T140000
DTSTAMP:20260421T110005
CREATED:20250306T165714Z
LAST-MODIFIED:20250306T165714Z
UID:3429-1742475600-1742479200@www.whitecityinnovationdistrict.org.uk
SUMMARY:I-X Seminar
DESCRIPTION:Dr Pasquale Minervini (University of Edinburgh) will be delivering the next I-X seminar\, entitled “Integrating Symbolic Algorithms in Neural Models (and LLMs)”. \nSeminar Summary \nNeural models\, including LLMs\, can exhibit remarkable abilities; paradoxically\, they also struggle with algorithmic tasks where much simpler models excel. To solve these issues\, we propose Implicit Maximum Likelihood Estimation (IMLE)\, a framework for end-to-end learning of models combining algorithmic combinatorial solvers and differentiable neural components\, which allows us to incorporate planning and reasoning algorithms in neural architectures by just adding a simple decorator. Finally\, we’ll discuss some very recent extensions of these ideas for making LLMs teach themselves how to use tools. \nHybrid event: I-X LRT608A level 6 (I-HUB) & via Teams \n 
URL:https://www.whitecityinnovationdistrict.org.uk/event/i-x-seminar/
LOCATION:I-HUB\, Imperial White City Campus\, 84 Wood Lane\, London\, W12 0BZ\, United Kingdom
ATTACH;FMTTYPE=image/jpeg:https://www.whitecityinnovationdistrict.org.uk/wp-content/uploads/sites/10/2025/03/I-X-Seminar-Mar-2025.jpg
END:VEVENT
END:VCALENDAR