BEGIN:VCALENDAR
VERSION:2.0
PRODID:-//White City Innovation District - ECPv6.15.20//NONSGML v1.0//EN
CALSCALE:GREGORIAN
METHOD:PUBLISH
X-WR-CALNAME:White City Innovation District
X-ORIGINAL-URL:https://www.whitecityinnovationdistrict.org.uk
X-WR-CALDESC:Events for White City Innovation District
REFRESH-INTERVAL;VALUE=DURATION:PT1H
X-Robots-Tag:noindex
X-PUBLISHED-TTL:PT1H
BEGIN:VTIMEZONE
TZID:Europe/London
BEGIN:DAYLIGHT
TZOFFSETFROM:+0000
TZOFFSETTO:+0100
TZNAME:BST
DTSTART:20240331T010000
END:DAYLIGHT
BEGIN:STANDARD
TZOFFSETFROM:+0100
TZOFFSETTO:+0000
TZNAME:GMT
DTSTART:20241027T010000
END:STANDARD
BEGIN:DAYLIGHT
TZOFFSETFROM:+0000
TZOFFSETTO:+0100
TZNAME:BST
DTSTART:20250330T010000
END:DAYLIGHT
BEGIN:STANDARD
TZOFFSETFROM:+0100
TZOFFSETTO:+0000
TZNAME:GMT
DTSTART:20251026T010000
END:STANDARD
BEGIN:DAYLIGHT
TZOFFSETFROM:+0000
TZOFFSETTO:+0100
TZNAME:BST
DTSTART:20260329T010000
END:DAYLIGHT
BEGIN:STANDARD
TZOFFSETFROM:+0100
TZOFFSETTO:+0000
TZNAME:GMT
DTSTART:20261025T010000
END:STANDARD
END:VTIMEZONE
BEGIN:VEVENT
DTSTART;TZID=Europe/London:20250313T140000
DTEND;TZID=Europe/London:20250313T200000
DTSTAMP:20260421T125053
CREATED:20250228T180549Z
LAST-MODIFIED:20250228T180656Z
UID:3423-1741874400-1741896000@www.whitecityinnovationdistrict.org.uk
SUMMARY:Hackstarter Grand Final 2025
DESCRIPTION:Meet this year’s cohort of inventors\, discover their novel solutions & the prototypes they have created at the Hackstarter Grand Final 2025. \nHackstarter is an award-winning grant programme giving inventors at Imperial College London the ability to make prototypes of their early-stage concepts. Run by Advanced Hackspace\, the scheme enables university students and staff to create physical products using traditional and digital prototyping equipment in a supportive and inclusive learning environment. \nFrom sustainable lab-grown fur to probiotics for managing chronic kidney disease\, this year’s innovations offer exciting solutions across diverse fields including fashion\, energy storage and human and animal health.
URL:https://www.whitecityinnovationdistrict.org.uk/event/hackstarter-grand-final-2025/
LOCATION:The Invention Rooms\, 68 Wood Lane\, London\, W12 7TA\, United Kingdom
ATTACH;FMTTYPE=image/jpeg:https://www.whitecityinnovationdistrict.org.uk/wp-content/uploads/sites/10/2025/02/Hackstarter-2025.jpeg
END:VEVENT
END:VCALENDAR