BEGIN:VCALENDAR
VERSION:2.0
PRODID:-//White City Innovation District - ECPv6.15.20//NONSGML v1.0//EN
CALSCALE:GREGORIAN
METHOD:PUBLISH
X-WR-CALNAME:White City Innovation District
X-ORIGINAL-URL:https://www.whitecityinnovationdistrict.org.uk
X-WR-CALDESC:Events for White City Innovation District
REFRESH-INTERVAL;VALUE=DURATION:PT1H
X-Robots-Tag:noindex
X-PUBLISHED-TTL:PT1H
BEGIN:VTIMEZONE
TZID:Europe/London
BEGIN:DAYLIGHT
TZOFFSETFROM:+0000
TZOFFSETTO:+0100
TZNAME:BST
DTSTART:20250330T010000
END:DAYLIGHT
BEGIN:STANDARD
TZOFFSETFROM:+0100
TZOFFSETTO:+0000
TZNAME:GMT
DTSTART:20251026T010000
END:STANDARD
BEGIN:DAYLIGHT
TZOFFSETFROM:+0000
TZOFFSETTO:+0100
TZNAME:BST
DTSTART:20260329T010000
END:DAYLIGHT
BEGIN:STANDARD
TZOFFSETFROM:+0100
TZOFFSETTO:+0000
TZNAME:GMT
DTSTART:20261025T010000
END:STANDARD
BEGIN:DAYLIGHT
TZOFFSETFROM:+0000
TZOFFSETTO:+0100
TZNAME:BST
DTSTART:20270328T010000
END:DAYLIGHT
BEGIN:STANDARD
TZOFFSETFROM:+0100
TZOFFSETTO:+0000
TZNAME:GMT
DTSTART:20271031T010000
END:STANDARD
END:VTIMEZONE
BEGIN:VEVENT
DTSTART;TZID=Europe/London:20260210T173000
DTEND;TZID=Europe/London:20260210T203000
DTSTAMP:20260422T231615
CREATED:20260127T114355Z
LAST-MODIFIED:20260127T114355Z
UID:4065-1770744600-1770755400@www.whitecityinnovationdistrict.org.uk
SUMMARY:Digital Creative Network West
DESCRIPTION:Where creativity meets technology in West London – showcase talks + networking + drinks + pizza! \n\n\n\n\nThe Digital Creative Network (DCN) is an exciting opportunity to convene large anchor organisations\, startups and academia and accelerate innovation in west London. \nWest London is one of the most important global clusters for creative industries with a competitive advantage of superior connectivity\, major studios\, international screen corporates\, strong ecosystem and in-demand talent. This event series seeks to promote innovation and collaboration amongst industry\, academia and government to address the shared priorities of increasing the supply of skilled workers\, increasing studio space\, and fostering sustainability. \nJoin Nexus for a series of inspirational talks from industry leaders with sector-leading expertise to serving film clients worldwide\, Esports giants and more! Followed by Q&A & networking opportunities to meet like-minded creatives in the borough. \nWho should come: All those who work in TV/Film\, media\, gaming\, advertising and the wider digital creative space in West London (or close enough!) – regardless of size of organisation. If you love innovation\, care about collaboration\, want to solve common challenges and enjoy meeting like-minded creatives\, this is the place for you. \nThe Digital Creative Network Community: The West London Boroughs (via West London Alliance)\, West London Business\, Film London and London and Partners\, are working together to promote the West London sub-region as the “Screen Capital”\, a globally significant cluster recognised as a world-leader for talent\, innovation and sustainability in the TV/Film industry. \nWest London and the surrounding environments have a competitive advantage with superior connectivity\, major studios\, international screen corporates\, strong ecosystem and in-demand talent. While this cluster has grown organically over the years\, there is now a need for collaboration amongst industry\, academia and government to address the shared priorities of increasing the supply of skilled workers\, increasing studio space\, promoting networks\, innovation and sustainability.
URL:https://www.whitecityinnovationdistrict.org.uk/event/digital-creative-network-west-3/
LOCATION:1 EdCity\, 1 Edcity Walk\, London\, W12 7TF\, United Kingdom
ATTACH;FMTTYPE=image/png:https://www.whitecityinnovationdistrict.org.uk/wp-content/uploads/sites/10/2024/11/Upstream-DCN.png
ORGANIZER;CN="Nexus":MAILTO:hello@move-upstream.org.uk
END:VEVENT
END:VCALENDAR