BEGIN:VCALENDAR
VERSION:2.0
PRODID:-//White City Innovation District - ECPv6.15.20//NONSGML v1.0//EN
CALSCALE:GREGORIAN
METHOD:PUBLISH
X-WR-CALNAME:White City Innovation District
X-ORIGINAL-URL:https://www.whitecityinnovationdistrict.org.uk
X-WR-CALDESC:Events for White City Innovation District
REFRESH-INTERVAL;VALUE=DURATION:PT1H
X-Robots-Tag:noindex
X-PUBLISHED-TTL:PT1H
BEGIN:VTIMEZONE
TZID:Europe/London
BEGIN:DAYLIGHT
TZOFFSETFROM:+0000
TZOFFSETTO:+0100
TZNAME:BST
DTSTART:20250330T010000
END:DAYLIGHT
BEGIN:STANDARD
TZOFFSETFROM:+0100
TZOFFSETTO:+0000
TZNAME:GMT
DTSTART:20251026T010000
END:STANDARD
BEGIN:DAYLIGHT
TZOFFSETFROM:+0000
TZOFFSETTO:+0100
TZNAME:BST
DTSTART:20260329T010000
END:DAYLIGHT
BEGIN:STANDARD
TZOFFSETFROM:+0100
TZOFFSETTO:+0000
TZNAME:GMT
DTSTART:20261025T010000
END:STANDARD
BEGIN:DAYLIGHT
TZOFFSETFROM:+0000
TZOFFSETTO:+0100
TZNAME:BST
DTSTART:20270328T010000
END:DAYLIGHT
BEGIN:STANDARD
TZOFFSETFROM:+0100
TZOFFSETTO:+0000
TZNAME:GMT
DTSTART:20271031T010000
END:STANDARD
END:VTIMEZONE
BEGIN:VEVENT
DTSTART;TZID=Europe/London:20260511T173000
DTEND;TZID=Europe/London:20260511T203000
DTSTAMP:20260423T082544
CREATED:20260417T192109Z
LAST-MODIFIED:20260417T192202Z
UID:4167-1778520600-1778531400@www.whitecityinnovationdistrict.org.uk
SUMMARY:Deep Tech Network - Industry Showcase
DESCRIPTION:Imperial College London and Nexus invite you to White City Innovation District to hear and network with leading innovators. \n\n\n\n\nThe DeepTech Network Community\nIf you’re a science\, tech or engineering business\, academic or startup using deep tech to improve our world\, and are based around White City Innovation District\, this event is for you. Free drinks and pizza! \nProgramme\n17:30: Registration and networking over refreshments \n18:00: Talks begin \n19:15: Networking drinks + pizza \n20:30: End
URL:https://www.whitecityinnovationdistrict.org.uk/event/deep-tech-network-industry-showcase-3/
LOCATION:I-HUB\, Imperial White City Campus\, 84 Wood Lane\, London\, W12 0BZ\, United Kingdom
ATTACH;FMTTYPE=image/jpeg:https://www.whitecityinnovationdistrict.org.uk/wp-content/uploads/sites/10/2024/10/DTN_Nov-24.jpeg
ORGANIZER;CN="Nexus":MAILTO:hello@move-upstream.org.uk
END:VEVENT
END:VCALENDAR