BEGIN:VCALENDAR
VERSION:2.0
PRODID:-//White City Innovation District - ECPv6.15.20//NONSGML v1.0//EN
CALSCALE:GREGORIAN
METHOD:PUBLISH
X-WR-CALNAME:White City Innovation District
X-ORIGINAL-URL:https://www.whitecityinnovationdistrict.org.uk
X-WR-CALDESC:Events for White City Innovation District
REFRESH-INTERVAL;VALUE=DURATION:PT1H
X-Robots-Tag:noindex
X-PUBLISHED-TTL:PT1H
BEGIN:VTIMEZONE
TZID:Europe/London
BEGIN:DAYLIGHT
TZOFFSETFROM:+0000
TZOFFSETTO:+0100
TZNAME:BST
DTSTART:20240331T010000
END:DAYLIGHT
BEGIN:STANDARD
TZOFFSETFROM:+0100
TZOFFSETTO:+0000
TZNAME:GMT
DTSTART:20241027T010000
END:STANDARD
BEGIN:DAYLIGHT
TZOFFSETFROM:+0000
TZOFFSETTO:+0100
TZNAME:BST
DTSTART:20250330T010000
END:DAYLIGHT
BEGIN:STANDARD
TZOFFSETFROM:+0100
TZOFFSETTO:+0000
TZNAME:GMT
DTSTART:20251026T010000
END:STANDARD
BEGIN:DAYLIGHT
TZOFFSETFROM:+0000
TZOFFSETTO:+0100
TZNAME:BST
DTSTART:20260329T010000
END:DAYLIGHT
BEGIN:STANDARD
TZOFFSETFROM:+0100
TZOFFSETTO:+0000
TZNAME:GMT
DTSTART:20261025T010000
END:STANDARD
END:VTIMEZONE
BEGIN:VEVENT
DTSTART;VALUE=DATE:20250729
DTEND;VALUE=DATE:20250820
DTSTAMP:20260422T100300
CREATED:20250714T145246Z
LAST-MODIFIED:20250714T145502Z
UID:3663-1753747200-1755647999@www.whitecityinnovationdistrict.org.uk
SUMMARY:Imperial College London Summer of Science
DESCRIPTION:Imperial College London | Summer of Science \nEvery Tuesday from 29 July until 19 August \n10am-12pm & 1pm-3pm \n  \nJoin Imperial College London’s School of Public Health this summer for a series of exciting family science workshops! \nFrom street dance to minigolf\, and tie-dye to smoothie taste-testing\, we have something to interest every budding scientist. You can also join our extra activities on the campus green between the workshops\, where healthy snacks will be provided. \nAll sessions are completely free for families local to the White City area with children ages 7–11. Spaces need to be booked in advance\, and children must be accompanied by an adult at all times during the sessions.
URL:https://www.whitecityinnovationdistrict.org.uk/event/3663/
LOCATION:Imperial School of Public Health\, White City Campus\, 90 Wood Lane\, London\, W12 0BZ\, United Kingdom
ATTACH;FMTTYPE=image/png:https://www.whitecityinnovationdistrict.org.uk/wp-content/uploads/sites/10/2025/07/Imperial-College-London-Families-Art-Workshop-at-the-Invention-Rooms-31st-May-2023-©-Brendan-Foster-Photography-5.png
END:VEVENT
END:VCALENDAR